BEGIN:VCALENDAR
VERSION:2.0
PRODID:-// - ECPv6.15.20//NONSGML v1.0//EN
CALSCALE:GREGORIAN
METHOD:PUBLISH
X-ORIGINAL-URL:https://theborderhookups.com
X-WR-CALDESC:Events for 
REFRESH-INTERVAL;VALUE=DURATION:PT1H
X-Robots-Tag:noindex
X-PUBLISHED-TTL:PT1H
BEGIN:VTIMEZONE
TZID:UTC
BEGIN:STANDARD
TZOFFSETFROM:+0000
TZOFFSETTO:+0000
TZNAME:UTC
DTSTART:20180101T000000
END:STANDARD
END:VTIMEZONE
BEGIN:VTIMEZONE
TZID:America/Chicago
BEGIN:DAYLIGHT
TZOFFSETFROM:-0600
TZOFFSETTO:-0500
TZNAME:CDT
DTSTART:20180311T080000
END:DAYLIGHT
BEGIN:STANDARD
TZOFFSETFROM:-0500
TZOFFSETTO:-0600
TZNAME:CST
DTSTART:20181104T070000
END:STANDARD
BEGIN:DAYLIGHT
TZOFFSETFROM:-0600
TZOFFSETTO:-0500
TZNAME:CDT
DTSTART:20190310T080000
END:DAYLIGHT
BEGIN:STANDARD
TZOFFSETFROM:-0500
TZOFFSETTO:-0600
TZNAME:CST
DTSTART:20191103T070000
END:STANDARD
BEGIN:DAYLIGHT
TZOFFSETFROM:-0600
TZOFFSETTO:-0500
TZNAME:CDT
DTSTART:20200308T080000
END:DAYLIGHT
BEGIN:STANDARD
TZOFFSETFROM:-0500
TZOFFSETTO:-0600
TZNAME:CST
DTSTART:20201101T070000
END:STANDARD
END:VTIMEZONE
BEGIN:VEVENT
DTSTART;TZID=UTC:20190807T173000
DTEND;TZID=UTC:20190807T213000
DTSTAMP:20260420T033029
CREATED:20190403T001519Z
LAST-MODIFIED:20190403T001519Z
UID:237-1565199000-1565213400@theborderhookups.com
SUMMARY:Wild Bills Sports Saloon - Apple Valley
DESCRIPTION:
URL:https://theborderhookups.com/event/wild-bills-sports-saloon-apple-valley-2/
LOCATION:Wild Bill’s Saloon – Apple Valley\, 15020 Glazier Ave\, Apple Valley\, MN\, 55124\, United States
END:VEVENT
BEGIN:VEVENT
DTSTART;TZID=America/Chicago:20190808T180000
DTEND;TZID=America/Chicago:20190808T210000
DTSTAMP:20260420T033029
CREATED:20190402T213344Z
LAST-MODIFIED:20190402T213344Z
UID:241-1565287200-1565298000@theborderhookups.com
SUMMARY:Lakeville Brewing Company
DESCRIPTION:
URL:https://theborderhookups.com/event/lakeville-brewing-company-5/
LOCATION:Lakeville Brewing Company\, 8790 Upper 208th St W\, Lakeville\, MN\, 55044\, United States
END:VEVENT
BEGIN:VEVENT
DTSTART;TZID=America/Chicago:20190810T190000
DTEND;TZID=America/Chicago:20190810T220000
DTSTAMP:20260420T033029
CREATED:20190402T213555Z
LAST-MODIFIED:20190402T213555Z
UID:245-1565463600-1565474400@theborderhookups.com
SUMMARY:Barley and Vine Kitchen Bar
DESCRIPTION:
URL:https://theborderhookups.com/event/barley-and-vine-kitchen-bar-2/
LOCATION:Barley + Vine\, 5268\, 17516 Dodd Blvd\, Lakeville\, MN\, 55044\, United States
END:VEVENT
BEGIN:VEVENT
DTSTART;TZID=America/Chicago:20190816T210000
DTEND;TZID=America/Chicago:20190816T235900
DTSTAMP:20260420T033029
CREATED:20190402T213648Z
LAST-MODIFIED:20190402T213648Z
UID:247-1565989200-1565999940@theborderhookups.com
SUMMARY:Madden's on Gull Lake
DESCRIPTION:
URL:https://theborderhookups.com/event/maddens-on-gull-lake-6/
LOCATION:Madden’s on Gull Lake\, 11266 Pine Beach Peninsula\, Brainerd\, MN\, 56401\, United States
END:VEVENT
BEGIN:VEVENT
DTSTART;TZID=America/Chicago:20190817T210000
DTEND;TZID=America/Chicago:20190817T235900
DTSTAMP:20260420T033029
CREATED:20190402T213757Z
LAST-MODIFIED:20190402T213757Z
UID:249-1566075600-1566086340@theborderhookups.com
SUMMARY:Madden's on Gull Lake
DESCRIPTION:
URL:https://theborderhookups.com/event/maddens-on-gull-lake-7/
LOCATION:Madden’s on Gull Lake\, 11266 Pine Beach Peninsula\, Brainerd\, MN\, 56401\, United States
END:VEVENT
BEGIN:VEVENT
DTSTART;TZID=America/Chicago:20190823T203000
DTEND;TZID=America/Chicago:20190823T233000
DTSTAMP:20260420T033029
CREATED:20190402T213908Z
LAST-MODIFIED:20190402T213908Z
UID:251-1566592200-1566603000@theborderhookups.com
SUMMARY:Froggy Bottoms River Pub
DESCRIPTION:
URL:https://theborderhookups.com/event/froggy-bottoms-river-pub-4/
LOCATION:Froggy Bottoms River Pub\, 307 South Water Street\, Northfield\, MN\, 55057\, United States
END:VEVENT
BEGIN:VEVENT
DTSTART;TZID=America/Chicago:20190824T153000
DTEND;TZID=America/Chicago:20190824T153000
DTSTAMP:20260420T033029
CREATED:20190402T214009Z
LAST-MODIFIED:20190402T214009Z
UID:253-1566660600-1566660600@theborderhookups.com
SUMMARY:Private Event
DESCRIPTION:
URL:https://theborderhookups.com/event/private-event/
LOCATION:Arizona
END:VEVENT
BEGIN:VEVENT
DTSTART;TZID=America/Chicago:20190831T170000
DTEND;TZID=America/Chicago:20190831T170000
DTSTAMP:20260420T033029
CREATED:20190402T214059Z
LAST-MODIFIED:20190402T214059Z
UID:255-1567270800-1567270800@theborderhookups.com
SUMMARY:Private Event
DESCRIPTION:
URL:https://theborderhookups.com/event/private-event-2/
LOCATION:Arizona
END:VEVENT
END:VCALENDAR