BEGIN:VCALENDAR
VERSION:2.0
PRODID:-// - ECPv6.15.20//NONSGML v1.0//EN
CALSCALE:GREGORIAN
METHOD:PUBLISH
X-ORIGINAL-URL:https://theborderhookups.com
X-WR-CALDESC:Events for 
REFRESH-INTERVAL;VALUE=DURATION:PT1H
X-Robots-Tag:noindex
X-PUBLISHED-TTL:PT1H
BEGIN:VTIMEZONE
TZID:UTC
BEGIN:STANDARD
TZOFFSETFROM:+0000
TZOFFSETTO:+0000
TZNAME:UTC
DTSTART:20180101T000000
END:STANDARD
END:VTIMEZONE
BEGIN:VTIMEZONE
TZID:America/Chicago
BEGIN:DAYLIGHT
TZOFFSETFROM:-0600
TZOFFSETTO:-0500
TZNAME:CDT
DTSTART:20180311T080000
END:DAYLIGHT
BEGIN:STANDARD
TZOFFSETFROM:-0500
TZOFFSETTO:-0600
TZNAME:CST
DTSTART:20181104T070000
END:STANDARD
BEGIN:DAYLIGHT
TZOFFSETFROM:-0600
TZOFFSETTO:-0500
TZNAME:CDT
DTSTART:20190310T080000
END:DAYLIGHT
BEGIN:STANDARD
TZOFFSETFROM:-0500
TZOFFSETTO:-0600
TZNAME:CST
DTSTART:20191103T070000
END:STANDARD
BEGIN:DAYLIGHT
TZOFFSETFROM:-0600
TZOFFSETTO:-0500
TZNAME:CDT
DTSTART:20200308T080000
END:DAYLIGHT
BEGIN:STANDARD
TZOFFSETFROM:-0500
TZOFFSETTO:-0600
TZNAME:CST
DTSTART:20201101T070000
END:STANDARD
END:VTIMEZONE
BEGIN:VEVENT
DTSTART;TZID=UTC:20190704T160000
DTEND;TZID=UTC:20190704T180000
DTSTAMP:20260420T050113
CREATED:20190402T031213Z
LAST-MODIFIED:20190402T031213Z
UID:223-1562256000-1562263200@theborderhookups.com
SUMMARY:Madden's on Gull Lake
DESCRIPTION:
URL:https://theborderhookups.com/event/maddens-on-gull-lake-3/
LOCATION:Madden’s on Gull Lake\, 11266 Pine Beach Peninsula\, Brainerd\, MN\, 56401\, United States
END:VEVENT
BEGIN:VEVENT
DTSTART;TZID=UTC:20190705T210000
DTEND;TZID=UTC:20190705T235900
DTSTAMP:20260420T050113
CREATED:20190402T031257Z
LAST-MODIFIED:20190402T031257Z
UID:225-1562360400-1562371140@theborderhookups.com
SUMMARY:Madden's on Gull Lake
DESCRIPTION:
URL:https://theborderhookups.com/event/maddens-on-gull-lake-4/
LOCATION:Madden’s on Gull Lake\, 11266 Pine Beach Peninsula\, Brainerd\, MN\, 56401\, United States
END:VEVENT
BEGIN:VEVENT
DTSTART;TZID=UTC:20190706T210000
DTEND;TZID=UTC:20190706T235900
DTSTAMP:20260420T050113
CREATED:20190402T031337Z
LAST-MODIFIED:20190402T031337Z
UID:227-1562446800-1562457540@theborderhookups.com
SUMMARY:Madden's on Gull Lake
DESCRIPTION:
URL:https://theborderhookups.com/event/maddens-on-gull-lake-5/
LOCATION:Madden’s on Gull Lake\, 11266 Pine Beach Peninsula\, Brainerd\, MN\, 56401\, United States
END:VEVENT
BEGIN:VEVENT
DTSTART;TZID=UTC:20190711T180000
DTEND;TZID=UTC:20190711T210000
DTSTAMP:20260420T050113
CREATED:20190402T231753Z
LAST-MODIFIED:20190402T231753Z
UID:231-1562868000-1562878800@theborderhookups.com
SUMMARY:Lakeville Brewing Company
DESCRIPTION:
URL:https://theborderhookups.com/event/lakeville-brewing-company-4/
LOCATION:Lakeville Brewing Company\, 8790 Upper 208th St W\, Lakeville\, MN\, 55044\, United States
END:VEVENT
BEGIN:VEVENT
DTSTART;TZID=America/Chicago:20190713T140000
DTEND;TZID=America/Chicago:20190713T170000
DTSTAMP:20260420T050113
CREATED:20190523T215959Z
LAST-MODIFIED:20190523T215959Z
UID:290-1563026400-1563037200@theborderhookups.com
SUMMARY:Pan-O-Prog Event (Beer Gardens)
DESCRIPTION:
URL:https://theborderhookups.com/event/pan-o-prog-event-beer-gardens/
LOCATION:Pan-O-Prog\, 20965 Holyoke Ave\, Lakeville\, MN\, 55044\, United States
END:VEVENT
BEGIN:VEVENT
DTSTART;TZID=UTC:20190719T160000
DTEND;TZID=UTC:20190719T190000
DTSTAMP:20260420T050113
CREATED:20190403T000246Z
LAST-MODIFIED:20190403T000246Z
UID:235-1563552000-1563562800@theborderhookups.com
SUMMARY:Cadillac Ranch - Mall of America
DESCRIPTION:
URL:https://theborderhookups.com/event/cadillac-ranch-mall-of-america-4/
LOCATION:Cadillac Ranch – MOA\, 352 South Avenue\, Bloomington\, MN\, 55425\, United States
END:VEVENT
END:VCALENDAR