BEGIN:VCALENDAR
VERSION:2.0
PRODID:-// - ECPv6.15.20//NONSGML v1.0//EN
CALSCALE:GREGORIAN
METHOD:PUBLISH
X-ORIGINAL-URL:https://theborderhookups.com
X-WR-CALDESC:Events for 
REFRESH-INTERVAL;VALUE=DURATION:PT1H
X-Robots-Tag:noindex
X-PUBLISHED-TTL:PT1H
BEGIN:VTIMEZONE
TZID:UTC
BEGIN:STANDARD
TZOFFSETFROM:+0000
TZOFFSETTO:+0000
TZNAME:UTC
DTSTART:20180101T000000
END:STANDARD
END:VTIMEZONE
BEGIN:VEVENT
DTSTART;TZID=UTC:20190601T210000
DTEND;TZID=UTC:20190601T235900
DTSTAMP:20260422T033302
CREATED:20190402T024723Z
LAST-MODIFIED:20190402T024723Z
UID:202-1559422800-1559433540@theborderhookups.com
SUMMARY:Madden's on Gull Lake
DESCRIPTION:
URL:https://theborderhookups.com/event/maddens-on-gull-lake-2/
LOCATION:Madden’s on Gull Lake\, 11266 Pine Beach Peninsula\, Brainerd\, MN\, 56401\, United States
END:VEVENT
BEGIN:VEVENT
DTSTART;TZID=UTC:20190605T173000
DTEND;TZID=UTC:20190605T213000
DTSTAMP:20260422T033302
CREATED:20190402T025032Z
LAST-MODIFIED:20190402T025032Z
UID:204-1559755800-1559770200@theborderhookups.com
SUMMARY:Wild Bill's Sports Saloon - Apple Valley
DESCRIPTION:
URL:https://theborderhookups.com/event/wild-bills-sports-saloon-apple-valley/
LOCATION:Wild Bill’s Saloon – Apple Valley\, 15020 Glazier Ave\, Apple Valley\, MN\, 55124\, United States
END:VEVENT
BEGIN:VEVENT
DTSTART;TZID=UTC:20190606T180000
DTEND;TZID=UTC:20190606T210000
DTSTAMP:20260422T033302
CREATED:20190402T025123Z
LAST-MODIFIED:20190402T025123Z
UID:207-1559844000-1559854800@theborderhookups.com
SUMMARY:Lakeville Brewing Company
DESCRIPTION:
URL:https://theborderhookups.com/event/lakeville-brewing-company-3/
LOCATION:Lakeville Brewing Company\, 8790 Upper 208th St W\, Lakeville\, MN\, 55044\, United States
END:VEVENT
BEGIN:VEVENT
DTSTART;TZID=UTC:20190607T200000
DTEND;TZID=UTC:20190607T235900
DTSTAMP:20260422T033302
CREATED:20190402T025354Z
LAST-MODIFIED:20190402T025354Z
UID:209-1559937600-1559951940@theborderhookups.com
SUMMARY:Lola's Lakehouse
DESCRIPTION:
URL:https://theborderhookups.com/event/lolas-lakehouse/
LOCATION:Lola’s Lakehouse\, 318 East Lake Street\, Waconia\, MN\, 55387\, United States
END:VEVENT
BEGIN:VEVENT
DTSTART;TZID=UTC:20190608T190000
DTEND;TZID=UTC:20190608T220000
DTSTAMP:20260422T033302
CREATED:20190402T030611Z
LAST-MODIFIED:20190402T030611Z
UID:213-1560020400-1560031200@theborderhookups.com
SUMMARY:The Railhouse Grill
DESCRIPTION:
URL:https://theborderhookups.com/event/the-railhouse-grill/
LOCATION:Railhouse Grill\, 800 W Lyon Ave\, Lake City\, MN\, 55041\, United States
END:VEVENT
BEGIN:VEVENT
DTSTART;TZID=UTC:20190621T203000
DTEND;TZID=UTC:20190621T233000
DTSTAMP:20260422T033302
CREATED:20190402T030752Z
LAST-MODIFIED:20190402T030752Z
UID:216-1561149000-1561159800@theborderhookups.com
SUMMARY:Froggy Bottoms River Pub
DESCRIPTION:
URL:https://theborderhookups.com/event/froggy-bottoms-river-pub-2/
LOCATION:Froggy Bottoms River Pub\, 307 South Water Street\, Northfield\, MN\, 55057\, United States
END:VEVENT
BEGIN:VEVENT
DTSTART;TZID=UTC:20190622T160000
DTEND;TZID=UTC:20190622T180000
DTSTAMP:20260422T033302
CREATED:20190402T030953Z
LAST-MODIFIED:20190402T030953Z
UID:218-1561219200-1561226400@theborderhookups.com
SUMMARY:10000 Drops Craft Distillers
DESCRIPTION:
URL:https://theborderhookups.com/event/10000-drops-craft-distillers/
LOCATION:10000 Drops Craft Distillers\, 28 4th St NE\, Faribault\, MN\, 55021\, United States
END:VEVENT
BEGIN:VEVENT
DTSTART;TZID=UTC:20190628T160000
DTEND;TZID=UTC:20190628T190000
DTSTAMP:20260422T033302
CREATED:20190402T031051Z
LAST-MODIFIED:20190402T031051Z
UID:221-1561737600-1561748400@theborderhookups.com
SUMMARY:Cadillac Ranch - Mall of America
DESCRIPTION:
URL:https://theborderhookups.com/event/cadillac-ranch-mall-of-america-3/
LOCATION:Cadillac Ranch – MOA\, 352 South Avenue\, Bloomington\, MN\, 55425\, United States
END:VEVENT
END:VCALENDAR