BEGIN:VCALENDAR
VERSION:2.0
PRODID:-// - ECPv6.15.20//NONSGML v1.0//EN
CALSCALE:GREGORIAN
METHOD:PUBLISH
X-ORIGINAL-URL:https://theborderhookups.com
X-WR-CALDESC:Events for 
REFRESH-INTERVAL;VALUE=DURATION:PT1H
X-Robots-Tag:noindex
X-PUBLISHED-TTL:PT1H
BEGIN:VTIMEZONE
TZID:UTC
BEGIN:STANDARD
TZOFFSETFROM:+0000
TZOFFSETTO:+0000
TZNAME:UTC
DTSTART:20180101T000000
END:STANDARD
END:VTIMEZONE
BEGIN:VEVENT
DTSTART;TZID=UTC:20190807T173000
DTEND;TZID=UTC:20190807T213000
DTSTAMP:20260420T050010
CREATED:20190403T001519Z
LAST-MODIFIED:20190403T001519Z
UID:237-1565199000-1565213400@theborderhookups.com
SUMMARY:Wild Bills Sports Saloon - Apple Valley
DESCRIPTION:
URL:https://theborderhookups.com/event/wild-bills-sports-saloon-apple-valley-2/
LOCATION:Wild Bill’s Saloon – Apple Valley\, 15020 Glazier Ave\, Apple Valley\, MN\, 55124\, United States
END:VEVENT
END:VCALENDAR