BEGIN:VCALENDAR
VERSION:2.0
PRODID:-// - ECPv6.15.20//NONSGML v1.0//EN
CALSCALE:GREGORIAN
METHOD:PUBLISH
X-ORIGINAL-URL:https://theborderhookups.com
X-WR-CALDESC:Events for 
REFRESH-INTERVAL;VALUE=DURATION:PT1H
X-Robots-Tag:noindex
X-PUBLISHED-TTL:PT1H
BEGIN:VTIMEZONE
TZID:UTC
BEGIN:STANDARD
TZOFFSETFROM:+0000
TZOFFSETTO:+0000
TZNAME:UTC
DTSTART:20180101T000000
END:STANDARD
END:VTIMEZONE
BEGIN:VEVENT
DTSTART;TZID=UTC:20190420T193000
DTEND;TZID=UTC:20190420T223000
DTSTAMP:20260422T075530
CREATED:20190329T193246Z
LAST-MODIFIED:20190329T193246Z
UID:183-1555788600-1555799400@theborderhookups.com
SUMMARY:Wicked Wort Brewing Company
DESCRIPTION:
URL:https://theborderhookups.com/event/wicked-wort-brewing-company/
LOCATION:Wicked Wort Brewing Company\, 4165 W Broadway Ave\, Robbinsdale\, MN\, 55422\, United States
END:VEVENT
END:VCALENDAR